BEGIN:VCALENDAR
VERSION:2.0
PRODID:-//Visiting Canvey Island - ECPv6.15.20//NONSGML v1.0//EN
CALSCALE:GREGORIAN
METHOD:PUBLISH
X-WR-CALNAME:Visiting Canvey Island
X-ORIGINAL-URL:https://visitingcanvey.co.uk
X-WR-CALDESC:Events for Visiting Canvey Island
REFRESH-INTERVAL;VALUE=DURATION:PT1H
X-Robots-Tag:noindex
X-PUBLISHED-TTL:PT1H
BEGIN:VTIMEZONE
TZID:UTC
BEGIN:STANDARD
TZOFFSETFROM:+0000
TZOFFSETTO:+0000
TZNAME:UTC
DTSTART:20250101T000000
END:STANDARD
END:VTIMEZONE
BEGIN:VEVENT
DTSTART;TZID=UTC:20260425T100000
DTEND;TZID=UTC:20260425T110000
DTSTAMP:20260425T015143
CREATED:20240916T085834Z
LAST-MODIFIED:20240923T124156Z
UID:10009798-1777111200-1777114800@visitingcanvey.co.uk
SUMMARY:Free Park Tennis
DESCRIPTION:
URL:https://visitingcanvey.co.uk/event/free-park-tennis/2026-04-25/
LOCATION:King George V Playing Fields\, King George V Pavilion\, Canvey Island\, Essex\, SS8 7BJ\, United Kingdom
ATTACH;FMTTYPE=image/jpeg:https://visitingcanvey.co.uk/wp-content/uploads/2024/09/WhatsApp-Image-2024-09-23-at-11.07.08.jpeg
END:VEVENT
BEGIN:VEVENT
DTSTART;TZID=UTC:20260425T100000
DTEND;TZID=UTC:20260425T120000
DTSTAMP:20260425T015143
CREATED:20240116T135935Z
LAST-MODIFIED:20240606T110841Z
UID:10002556-1777111200-1777118400@visitingcanvey.co.uk
SUMMARY:MHPA Classes
DESCRIPTION:
URL:https://visitingcanvey.co.uk/event/mhpa-main-academy-classes/2026-04-25/
LOCATION:St Nicholas’ Church Hall\, 208 Long Road\, Canvey Island\, Essex\, SS8 0JR\, United Kingdom
ATTACH;FMTTYPE=image/jpeg:https://visitingcanvey.co.uk/wp-content/uploads/2024/01/MHPA-1.jpeg
END:VEVENT
BEGIN:VEVENT
DTSTART;TZID=UTC:20260425T104500
DTEND;TZID=UTC:20260425T120000
DTSTAMP:20260425T015143
CREATED:20240116T132450Z
LAST-MODIFIED:20240606T111141Z
UID:10001247-1777113900-1777118400@visitingcanvey.co.uk
SUMMARY:Saturday Soccer
DESCRIPTION:
URL:https://visitingcanvey.co.uk/event/saturday-soccer/2026-04-25/
LOCATION:Waterside Playing Fields\, Somnes Avenue\, Canvey Island\, Essex\, SS8 9RA\, United Kingdom
ATTACH;FMTTYPE=image/jpeg:https://visitingcanvey.co.uk/wp-content/uploads/2024/01/soccersaturdays-1.jpeg
END:VEVENT
BEGIN:VEVENT
DTSTART;TZID=UTC:20260425T173000
DTEND;TZID=UTC:20260425T233000
DTSTAMP:20260425T015143
CREATED:20260407T123640Z
LAST-MODIFIED:20260407T123640Z
UID:10013231-1777138200-1777159800@visitingcanvey.co.uk
SUMMARY:Arsenal vs Newcastle
DESCRIPTION:
URL:https://visitingcanvey.co.uk/event/arsenal-vs-newcastle/
LOCATION:Bar Monico\, 1-3 Eastern Esplanade\, Canvey Island\, Essex\, SS8 7DN\, United Kingdom
ATTACH;FMTTYPE=image/jpeg:https://visitingcanvey.co.uk/wp-content/uploads/2026/04/WhatsApp-Image-2026-04-06-at-21.13.47-1.jpeg
END:VEVENT
BEGIN:VEVENT
DTSTART;TZID=UTC:20260425T200000
DTEND;TZID=UTC:20260425T233000
DTSTAMP:20260425T015143
CREATED:20260407T124231Z
LAST-MODIFIED:20260407T124231Z
UID:10013234-1777147200-1777159800@visitingcanvey.co.uk
SUMMARY:DJ Mags
DESCRIPTION:
URL:https://visitingcanvey.co.uk/event/dj-mags/
LOCATION:Bar Monico\, 1-3 Eastern Esplanade\, Canvey Island\, Essex\, SS8 7DN\, United Kingdom
ATTACH;FMTTYPE=image/jpeg:https://visitingcanvey.co.uk/wp-content/uploads/2026/04/WhatsApp-Image-2026-04-06-at-21.16.37.jpeg
END:VEVENT
END:VCALENDAR