BEGIN:VCALENDAR
VERSION:2.0
PRODID:-//Visiting Canvey Island - ECPv6.15.16//NONSGML v1.0//EN
CALSCALE:GREGORIAN
METHOD:PUBLISH
X-WR-CALNAME:Visiting Canvey Island
X-ORIGINAL-URL:https://visitingcanvey.co.uk
X-WR-CALDESC:Events for Visiting Canvey Island
REFRESH-INTERVAL;VALUE=DURATION:PT1H
X-Robots-Tag:noindex
X-PUBLISHED-TTL:PT1H
BEGIN:VTIMEZONE
TZID:UTC
BEGIN:STANDARD
TZOFFSETFROM:+0000
TZOFFSETTO:+0000
TZNAME:UTC
DTSTART:20240101T000000
END:STANDARD
END:VTIMEZONE
BEGIN:VEVENT
DTSTART;TZID=UTC:20250712T100000
DTEND;TZID=UTC:20250712T110000
DTSTAMP:20260420T210022
CREATED:20240916T085834Z
LAST-MODIFIED:20240923T124156Z
UID:10009757-1752314400-1752318000@visitingcanvey.co.uk
SUMMARY:Free Park Tennis
DESCRIPTION:
URL:https://visitingcanvey.co.uk/event/free-park-tennis/2025-07-12/
LOCATION:King George V Playing Fields\, King George V Pavilion\, Canvey Island\, Essex\, SS8 7BJ\, United Kingdom
ATTACH;FMTTYPE=image/jpeg:https://visitingcanvey.co.uk/wp-content/uploads/2024/09/WhatsApp-Image-2024-09-23-at-11.07.08.jpeg
END:VEVENT
BEGIN:VEVENT
DTSTART;TZID=UTC:20250712T100000
DTEND;TZID=UTC:20250712T120000
DTSTAMP:20260420T210022
CREATED:20240116T135935Z
LAST-MODIFIED:20240606T110841Z
UID:10002515-1752314400-1752321600@visitingcanvey.co.uk
SUMMARY:MHPA Classes
DESCRIPTION:
URL:https://visitingcanvey.co.uk/event/mhpa-main-academy-classes/2025-07-12/
LOCATION:St Nicholas’ Church Hall\, 208 Long Road\, Canvey Island\, Essex\, SS8 0JR\, United Kingdom
ATTACH;FMTTYPE=image/jpeg:https://visitingcanvey.co.uk/wp-content/uploads/2024/01/MHPA-1.jpeg
END:VEVENT
BEGIN:VEVENT
DTSTART;TZID=UTC:20250712T104500
DTEND;TZID=UTC:20250712T120000
DTSTAMP:20260420T210022
CREATED:20240116T132450Z
LAST-MODIFIED:20240606T111141Z
UID:10001206-1752317100-1752321600@visitingcanvey.co.uk
SUMMARY:Saturday Soccer
DESCRIPTION:
URL:https://visitingcanvey.co.uk/event/saturday-soccer/2025-07-12/
LOCATION:Waterside Playing Fields\, Somnes Avenue\, Canvey Island\, Essex\, SS8 9RA\, United Kingdom
ATTACH;FMTTYPE=image/jpeg:https://visitingcanvey.co.uk/wp-content/uploads/2024/01/soccersaturdays-1.jpeg
END:VEVENT
BEGIN:VEVENT
DTSTART;TZID=UTC:20250712T170000
DTEND;TZID=UTC:20250712T233000
DTSTAMP:20260420T210022
CREATED:20250508T152614Z
LAST-MODIFIED:20250508T152614Z
UID:10011972-1752339600-1752363000@visitingcanvey.co.uk
SUMMARY:Never 42
DESCRIPTION:
URL:https://visitingcanvey.co.uk/event/never-42/
LOCATION:Jimmy Mac’s\, 1-3 Eastern Esplanade\, Canvey Island\, Essex\, SS8 7DN\, United Kingdom
ATTACH;FMTTYPE=image/jpeg:https://visitingcanvey.co.uk/wp-content/uploads/2025/05/WhatsApp-Image-2025-05-08-at-14.47.11.jpeg
END:VEVENT
END:VCALENDAR