BEGIN:VCALENDAR
VERSION:2.0
PRODID:-//Visiting Canvey Island - ECPv6.15.20//NONSGML v1.0//EN
CALSCALE:GREGORIAN
METHOD:PUBLISH
X-WR-CALNAME:Visiting Canvey Island
X-ORIGINAL-URL:https://visitingcanvey.co.uk
X-WR-CALDESC:Events for Visiting Canvey Island
REFRESH-INTERVAL;VALUE=DURATION:PT1H
X-Robots-Tag:noindex
X-PUBLISHED-TTL:PT1H
BEGIN:VTIMEZONE
TZID:UTC
BEGIN:STANDARD
TZOFFSETFROM:+0000
TZOFFSETTO:+0000
TZNAME:UTC
DTSTART:20240101T000000
END:STANDARD
END:VTIMEZONE
BEGIN:VEVENT
DTSTART;TZID=UTC:20250531T100000
DTEND;TZID=UTC:20250531T110000
DTSTAMP:20260424T042427
CREATED:20240916T085834Z
LAST-MODIFIED:20240923T124156Z
UID:10009751-1748685600-1748689200@visitingcanvey.co.uk
SUMMARY:Free Park Tennis
DESCRIPTION:
URL:https://visitingcanvey.co.uk/event/free-park-tennis/2025-05-31/
LOCATION:King George V Playing Fields\, King George V Pavilion\, Canvey Island\, Essex\, SS8 7BJ\, United Kingdom
ATTACH;FMTTYPE=image/jpeg:https://visitingcanvey.co.uk/wp-content/uploads/2024/09/WhatsApp-Image-2024-09-23-at-11.07.08.jpeg
END:VEVENT
BEGIN:VEVENT
DTSTART;TZID=UTC:20250531T100000
DTEND;TZID=UTC:20250531T120000
DTSTAMP:20260424T042427
CREATED:20240116T135935Z
LAST-MODIFIED:20240606T110841Z
UID:10002509-1748685600-1748692800@visitingcanvey.co.uk
SUMMARY:MHPA Classes
DESCRIPTION:
URL:https://visitingcanvey.co.uk/event/mhpa-main-academy-classes/2025-05-31/
LOCATION:St Nicholas’ Church Hall\, 208 Long Road\, Canvey Island\, Essex\, SS8 0JR\, United Kingdom
ATTACH;FMTTYPE=image/jpeg:https://visitingcanvey.co.uk/wp-content/uploads/2024/01/MHPA-1.jpeg
END:VEVENT
BEGIN:VEVENT
DTSTART;TZID=UTC:20250531T104500
DTEND;TZID=UTC:20250531T120000
DTSTAMP:20260424T042427
CREATED:20240116T132450Z
LAST-MODIFIED:20240606T111141Z
UID:10001200-1748688300-1748692800@visitingcanvey.co.uk
SUMMARY:Saturday Soccer
DESCRIPTION:
URL:https://visitingcanvey.co.uk/event/saturday-soccer/2025-05-31/
LOCATION:Waterside Playing Fields\, Somnes Avenue\, Canvey Island\, Essex\, SS8 9RA\, United Kingdom
ATTACH;FMTTYPE=image/jpeg:https://visitingcanvey.co.uk/wp-content/uploads/2024/01/soccersaturdays-1.jpeg
END:VEVENT
BEGIN:VEVENT
DTSTART;TZID=UTC:20250531T170000
DTEND;TZID=UTC:20250531T233000
DTSTAMP:20260424T042427
CREATED:20250508T132103Z
LAST-MODIFIED:20250508T132103Z
UID:10011631-1748710800-1748734200@visitingcanvey.co.uk
SUMMARY:Fishing for Robots
DESCRIPTION:
URL:https://visitingcanvey.co.uk/event/fishing-for-robots/
LOCATION:Corner Club\, 149 High Street\, Canvey Island\, Essex\, SS8 7RQ\, United Kingdom
ATTACH;FMTTYPE=image/jpeg:https://visitingcanvey.co.uk/wp-content/uploads/2025/05/WhatsApp-Image-2025-05-05-at-16.39.13.jpg
END:VEVENT
END:VCALENDAR