BEGIN:VCALENDAR
VERSION:2.0
PRODID:-//Visiting Canvey Island - ECPv6.15.20//NONSGML v1.0//EN
CALSCALE:GREGORIAN
METHOD:PUBLISH
X-WR-CALNAME:Visiting Canvey Island
X-ORIGINAL-URL:https://visitingcanvey.co.uk
X-WR-CALDESC:Events for Visiting Canvey Island
REFRESH-INTERVAL;VALUE=DURATION:PT1H
X-Robots-Tag:noindex
X-PUBLISHED-TTL:PT1H
BEGIN:VTIMEZONE
TZID:UTC
BEGIN:STANDARD
TZOFFSETFROM:+0000
TZOFFSETTO:+0000
TZNAME:UTC
DTSTART:20240101T000000
END:STANDARD
END:VTIMEZONE
BEGIN:VEVENT
DTSTART;TZID=UTC:20250530T100000
DTEND;TZID=UTC:20250530T120000
DTSTAMP:20260424T055148
CREATED:20240227T111841Z
LAST-MODIFIED:20240227T111841Z
UID:10004121-1748599200-1748606400@visitingcanvey.co.uk
SUMMARY:The Canveyukers
DESCRIPTION:NEW lineup\nNEW songs\nNEW gigs\nNEW venue\nTheCanveyUkers are back!!!\nAre you fed up strumming alone at home?\nCome and join us every Friday 10:00 to 12:00 at Morrison’s Canvey Island\, community room\, and enjoy playing along with fellow Ukers. All abilities welcome. follow on facebook or email\nThecanveyukers@gmail.com
URL:https://visitingcanvey.co.uk/event/the-canveyukers/2025-05-30/
LOCATION:Morrisons\, Northwick Road\, Canvey Island\, Essex\, SS8 0SW\, United Kingdom
ATTACH;FMTTYPE=image/jpeg:https://visitingcanvey.co.uk/wp-content/uploads/2024/02/The-Canveyukers-1.jpeg
END:VEVENT
BEGIN:VEVENT
DTSTART;TZID=UTC:20250530T170000
DTEND;TZID=UTC:20250530T233000
DTSTAMP:20260424T055148
CREATED:20250508T132202Z
LAST-MODIFIED:20250508T132202Z
UID:10011632-1748624400-1748647800@visitingcanvey.co.uk
SUMMARY:Soul Corner
DESCRIPTION:
URL:https://visitingcanvey.co.uk/event/soul-corner/
LOCATION:Corner Club\, 149 High Street\, Canvey Island\, Essex\, SS8 7RQ\, United Kingdom
ATTACH;FMTTYPE=image/jpeg:https://visitingcanvey.co.uk/wp-content/uploads/2025/05/WhatsApp-Image-2025-05-05-at-16.39.54.jpg
END:VEVENT
BEGIN:VEVENT
DTSTART;TZID=UTC:20250530T200000
DTEND;TZID=UTC:20250530T233000
DTSTAMP:20260424T055148
CREATED:20250508T130516Z
LAST-MODIFIED:20250508T130516Z
UID:10011302-1748635200-1748647800@visitingcanvey.co.uk
SUMMARY:Charity Casino Night
DESCRIPTION:
URL:https://visitingcanvey.co.uk/event/charity-casino-night/
LOCATION:Canvey Island Conservative Club\, Fielder House\, 59 Long Rd\, Canvey Island\, Essex\, SS8 0JA\, United Kingdom
ATTACH;FMTTYPE=image/jpeg:https://visitingcanvey.co.uk/wp-content/uploads/2025/05/WhatsApp-Image-2025-05-05-at-16.35.13.jpg
END:VEVENT
END:VCALENDAR