BEGIN:VCALENDAR
VERSION:2.0
PRODID:-//Visiting Canvey Island - ECPv6.15.20//NONSGML v1.0//EN
CALSCALE:GREGORIAN
METHOD:PUBLISH
X-ORIGINAL-URL:https://visitingcanvey.co.uk
X-WR-CALDESC:Events for Visiting Canvey Island
REFRESH-INTERVAL;VALUE=DURATION:PT1H
X-Robots-Tag:noindex
X-PUBLISHED-TTL:PT1H
BEGIN:VTIMEZONE
TZID:UTC
BEGIN:STANDARD
TZOFFSETFROM:+0000
TZOFFSETTO:+0000
TZNAME:UTC
DTSTART:20240101T000000
END:STANDARD
END:VTIMEZONE
BEGIN:VEVENT
DTSTART;TZID=UTC:20250528T100000
DTEND;TZID=UTC:20250528T120000
DTSTAMP:20260424T085333
CREATED:20240318T131746Z
LAST-MODIFIED:20240318T131903Z
UID:10005250-1748426400-1748433600@visitingcanvey.co.uk
SUMMARY:Walk the Wick
DESCRIPTION:
URL:https://visitingcanvey.co.uk/event/walk-the-wick/2025-05-28/
LOCATION:Morrisons\, Northwick Road\, Canvey Island\, Essex\, SS8 0SW\, United Kingdom
ATTACH;FMTTYPE=image/jpeg:https://visitingcanvey.co.uk/wp-content/uploads/2024/03/Walk-the-Wick.jpeg
END:VEVENT
BEGIN:VEVENT
DTSTART;TZID=UTC:20250528T100000
DTEND;TZID=UTC:20250528T160000
DTSTAMP:20260424T085333
CREATED:20250520T124307Z
LAST-MODIFIED:20250520T124307Z
UID:10012054-1748426400-1748448000@visitingcanvey.co.uk
SUMMARY:Canvey Wick Habitat Restoration Project Celebration
DESCRIPTION:
URL:https://visitingcanvey.co.uk/event/canvey-wick-habitat-restoration-project-celebration/
LOCATION:Canvey Wick\, 276 Northwick Rd\, Canvey Island\, Essex\, SS8 0PT\, United Kingdom
ATTACH;FMTTYPE=image/jpeg:https://visitingcanvey.co.uk/wp-content/uploads/2025/05/canveywickcelebration.jpg
END:VEVENT
BEGIN:VEVENT
DTSTART;TZID=UTC:20250528T183000
DTEND;TZID=UTC:20250528T193000
DTSTAMP:20260424T085333
CREATED:20240116T134812Z
LAST-MODIFIED:20240116T145841Z
UID:10003567-1748457000-1748460600@visitingcanvey.co.uk
SUMMARY:Burlesque Beginner Class
DESCRIPTION:
URL:https://visitingcanvey.co.uk/event/burlesque-beginner-class/2025-05-28/
LOCATION:Star Studio\, 1 Northwick Rd\, Canvey Island\, Essex\, SS8 0PU\, United Kingdom
ATTACH;FMTTYPE=image/jpeg:https://visitingcanvey.co.uk/wp-content/uploads/2024/01/burlesque-1.jpeg
END:VEVENT
BEGIN:VEVENT
DTSTART;TZID=UTC:20250528T183000
DTEND;TZID=UTC:20250528T203000
DTSTAMP:20260424T085333
CREATED:20240405T105205Z
LAST-MODIFIED:20240405T105551Z
UID:10005872-1748457000-1748464200@visitingcanvey.co.uk
SUMMARY:Canvey Creative Club
DESCRIPTION:A group for anyone creative on Canvey or local!\nFor you to share\, get tips / advice and just chat with people who have similar interests.\nDoesn’t matter if you paint\, draw\, sculpture\, graphic design\, clay\, sew\, knit… anything creative or artsy!\nA little community for everyone to have a friendly group together.\nWe have a meet up every Wednesday at 18.30 til 20.30 at International House\, Charfleets Road\,\n\n\nCheck Facebook for more details
URL:https://visitingcanvey.co.uk/event/canvey-creative-club/2025-05-28/
LOCATION:International House\, International Business Park\, Charfleets Road\, Canvey Island\, Essex\, SS8 0PQ\, United Kingdom
ATTACH;FMTTYPE=image/jpeg:https://visitingcanvey.co.uk/wp-content/uploads/2024/04/Canvey-Creative-Club.jpeg
END:VEVENT
END:VCALENDAR