BEGIN:VCALENDAR
VERSION:2.0
PRODID:-//Visiting Canvey Island - ECPv6.15.20//NONSGML v1.0//EN
CALSCALE:GREGORIAN
METHOD:PUBLISH
X-WR-CALNAME:Visiting Canvey Island
X-ORIGINAL-URL:https://visitingcanvey.co.uk
X-WR-CALDESC:Events for Visiting Canvey Island
REFRESH-INTERVAL;VALUE=DURATION:PT1H
X-Robots-Tag:noindex
X-PUBLISHED-TTL:PT1H
BEGIN:VTIMEZONE
TZID:UTC
BEGIN:STANDARD
TZOFFSETFROM:+0000
TZOFFSETTO:+0000
TZNAME:UTC
DTSTART:20240101T000000
END:STANDARD
END:VTIMEZONE
BEGIN:VEVENT
DTSTART;TZID=UTC:20250518T100000
DTEND;TZID=UTC:20250518T103000
DTSTAMP:20260425T015527
CREATED:20240116T141150Z
LAST-MODIFIED:20240116T141150Z
UID:10003296-1747562400-1747564200@visitingcanvey.co.uk
SUMMARY:Adult Tap
DESCRIPTION:
URL:https://visitingcanvey.co.uk/event/adult-tap/2025-05-18/
LOCATION:Star Studio\, 1 Northwick Rd\, Canvey Island\, Essex\, SS8 0PU\, United Kingdom
ATTACH;FMTTYPE=image/jpeg:https://visitingcanvey.co.uk/wp-content/uploads/2024/01/adult-tap-1.jpeg
END:VEVENT
BEGIN:VEVENT
DTSTART;TZID=UTC:20250518T100000
DTEND;TZID=UTC:20250518T120000
DTSTAMP:20260425T015527
CREATED:20240208T155830Z
LAST-MODIFIED:20240208T155830Z
UID:10003838-1747562400-1747569600@visitingcanvey.co.uk
SUMMARY:Dachshunds of Castle Point: Sausage Dog Walk
DESCRIPTION:
URL:https://visitingcanvey.co.uk/event/dachshunds-of-castle-point-sausage-dog-walk/2025-05-18/
LOCATION:Canvey Heights Country Park\, Canvey Road\, Canvey Island\, Essex\, SS8 8NB\, United Kingdom
ATTACH;FMTTYPE=image/jpeg:https://visitingcanvey.co.uk/wp-content/uploads/2024/02/dogwalk.jpeg
END:VEVENT
BEGIN:VEVENT
DTSTART;TZID=UTC:20250518T103000
DTEND;TZID=UTC:20250518T154500
DTSTAMP:20260425T015527
CREATED:20250508T134634Z
LAST-MODIFIED:20250508T134634Z
UID:10011898-1747564200-1747583100@visitingcanvey.co.uk
SUMMARY:Miniature Railway
DESCRIPTION:
URL:https://visitingcanvey.co.uk/event/miniature-railway/2025-05-18/
LOCATION:Miniature Railway\, Somnes Ave\, Canvey Island\, Essex\, SS8 9RA\, United Kingdom
ATTACH;FMTTYPE=image/jpeg:https://visitingcanvey.co.uk/wp-content/uploads/2025/05/WhatsApp-Image-2025-05-05-at-16.57.58.jpeg
END:VEVENT
BEGIN:VEVENT
DTSTART;TZID=UTC:20250518T103000
DTEND;TZID=UTC:20250518T160000
DTSTAMP:20260425T015527
CREATED:20250516T084856Z
LAST-MODIFIED:20250516T084856Z
UID:10012050-1747564200-1747584000@visitingcanvey.co.uk
SUMMARY:Tabletop & Craft Fayre
DESCRIPTION:
URL:https://visitingcanvey.co.uk/event/tabletop-craft-fayre/
LOCATION:Canvey Island Transport Museum\, 105 Point Road\, Canvey Island\, Essex\, SS8 7TD\, United Kingdom
ATTACH;FMTTYPE=image/png:https://visitingcanvey.co.uk/wp-content/uploads/2025/05/WhatsApp-Image-2025-05-15-at-20.30.38.png
END:VEVENT
BEGIN:VEVENT
DTSTART;TZID=UTC:20250518T110000
DTEND;TZID=UTC:20250518T130000
DTSTAMP:20260425T015527
CREATED:20240821T130004Z
LAST-MODIFIED:20240821T130004Z
UID:10009025-1747566000-1747573200@visitingcanvey.co.uk
SUMMARY:Castle Point Community Allotment
DESCRIPTION:
URL:https://visitingcanvey.co.uk/event/castle-point-community-allotment/2025-05-18/
LOCATION:Essex
ATTACH;FMTTYPE=image/jpeg:https://visitingcanvey.co.uk/wp-content/uploads/2024/08/Castle-Point-Community-Allotment.jpeg
END:VEVENT
END:VCALENDAR